BEGIN:VCALENDAR
VERSION:2.0
PRODID:-//Medtron EN - ECPv6.11.2.1//NONSGML v1.0//EN
CALSCALE:GREGORIAN
METHOD:PUBLISH
X-WR-CALNAME:Medtron EN
X-ORIGINAL-URL:https://www.medtron.com/en
X-WR-CALDESC:Events for Medtron EN
REFRESH-INTERVAL;VALUE=DURATION:PT1H
X-Robots-Tag:noindex
X-PUBLISHED-TTL:PT1H
BEGIN:VTIMEZONE
TZID:Europe/Helsinki
BEGIN:DAYLIGHT
TZOFFSETFROM:+0200
TZOFFSETTO:+0300
TZNAME:EEST
DTSTART:20240331T010000
END:DAYLIGHT
BEGIN:STANDARD
TZOFFSETFROM:+0300
TZOFFSETTO:+0200
TZNAME:EET
DTSTART:20241027T010000
END:STANDARD
END:VTIMEZONE
BEGIN:VEVENT
DTSTART;VALUE=DATE:20241114
DTEND;VALUE=DATE:20241118
DTSTAMP:20260420T193106
CREATED:20240904T093300Z
LAST-MODIFIED:20241115T123805Z
UID:16312-1731542400-1731887999@www.medtron.com
SUMMARY:CCR__
DESCRIPTION:Let’s meet at CCR in Shanghai! \nTreffen Sie unseren Vertriebspartner Growth Medical vor Ort und lernen Sie unsere Kontrastmittelinjektoren und unser Verbrauchsmaterial kennen.\nWir freuen uns auf den Austausch mit Ihnen! \nHier finden Sie uns vor Ort: A08
URL:https://www.medtron.com/en/event/ccr/
LOCATION:Shanghai\, China
END:VEVENT
BEGIN:VEVENT
DTSTART;VALUE=DATE:20241114
DTEND;VALUE=DATE:20241116
DTSTAMP:20260420T193106
CREATED:20251113T073128Z
LAST-MODIFIED:20250626T132302Z
UID:15455-1731542400-1731715199@www.medtron.com
SUMMARY:Radiologiekongress Ruhr_
DESCRIPTION:Let’s meet at Radiologiekongress Ruhr in Dortmund! \nDer Radiologiekongress Ruhr ist der zweitgrößte Kongress der medizinischen Bildgebung in Deutschland und findet im November 2024 zum 16. Mal in Dortmund statt. Radiologen\, MTRA und Industrievertreter aus aller Welt kommen beim Kongress zusammen\, um sich über neueste Entwicklungen und Trends in der Radiologie und Nuklearmedizin auszutauschen und fortzubilden.\nAuch wir von der MEDTRON AG werden mit einem Stand vor Ort sein und Sie rund um unsere Produkte beraten. \nTreffen Sie uns und lernen Sie unsere Kontrastmittelinjektoren und Verbrauchsmaterialien kennen.\nWir freuen uns auf den Austausch mit Ihnen! \nHier finden Sie uns vor Ort: Stand 3.15
URL:https://www.medtron.com/en/event/radiologiekongress-ruhr/
LOCATION:Messe Dortmund\, Rheinlanddamm 200\, Dortmund\, 44139\, Deutschland
END:VEVENT
BEGIN:VEVENT
DTSTART;VALUE=DATE:20241011
DTEND;VALUE=DATE:20241013
DTSTAMP:20260420T193106
CREATED:20240515T071252Z
LAST-MODIFIED:20240515T071757Z
UID:15447-1728604800-1728777599@www.medtron.com
SUMMARY:FISI__
DESCRIPTION:Let’s meet at FISI-Symposium in Frankfurt! \nDas 25. FISI-Symposium in Frankfurt wird in diesem Jahr unter dem Motto “MRT advanced” stattfinden.\nAuch wir von der MEDTRON AG werden mit einem Expertenteam Ort sein und Sie rund um unsere Produkte beraten. \nTreffen Sie uns und lernen Sie unsere Kontrastmittelinjektoren und Verbrauchsmaterialien kennen.\nWir freuen uns auf den Austausch mit Ihnen! \nHier finden Sie uns vor Ort: wird noch bekannt gegeben
URL:https://www.medtron.com/en/event/fisi-symposium/
LOCATION:Universitätsklinikum Frankfurt\, Theodor-Stern-Kai 7\, Frankfurt\, 60590
END:VEVENT
BEGIN:VEVENT
DTSTART;VALUE=DATE:20240913
DTEND;VALUE=DATE:20240915
DTSTAMP:20260420T193106
CREATED:20240516T105544Z
LAST-MODIFIED:20240516T105609Z
UID:15473-1726185600-1726358399@www.medtron.com
SUMMARY:Petersberger Symposium_
DESCRIPTION:Let’s meet at Petersberger Symposium in Königswinter! \nDas 15. Petersberger Symposium findet dieses Jahr unter dem Motto “Radiologie meets MSK” statt\, so steht die Orthopädie im Fokus\, mit besonderem Augenmerk auf die unmittelbaren therapeutischen Konsequenzen der MSK-Diagnostik.\nAuch wir von der MEDTRON AG werden mit einem Expertenteam vor Ort sein und Sie rund um unsere Produkte beraten. \nTreffen Sie uns und lernen Sie unsere Kontrastmittelinjektoren und unser Verbrauchsmaterial kennen.\nWir freuen uns auf den Austausch mit Ihnen! \nHier finden Sie uns vor Ort: wird noch bekannt gegeben
URL:https://www.medtron.com/en/event/petersberger-symposium/
LOCATION:Steigenberger Hotel am Petersberg\, Königswinter\, 53639
END:VEVENT
BEGIN:VEVENT
DTSTART;VALUE=DATE:20240911
DTEND;VALUE=DATE:20240915
DTSTAMP:20260420T193106
CREATED:20240516T104618Z
LAST-MODIFIED:20240902T102538Z
UID:15468-1726012800-1726358399@www.medtron.com
SUMMARY:GPR Jahrestagung__
DESCRIPTION:Let’s meet at GPR Jahrestagung in Erlangen! \nDie 61. Jahrestagung der Gesellschaft für Pädiatrische Radiologie e.V. (GPR) findet in diesem Jahr unter dem Motto “Kinderradiologie 2024 – so bunt wie das Leben” statt.\nAuch wir von der MEDTRON AG werden mit einem Expertenteam vor Ort sein und Sie rund um unsere Produkte beraten. \nTreffen Sie uns und lernen Sie unsere Kontrastmittelinjektoren und unser Verbrauchsmaterial kennen.\nWir freuen uns auf den Austausch mit Ihnen! \nHier finden Sie uns vor Ort: Stand A08
URL:https://www.medtron.com/en/event/gpr/
LOCATION:Universitätsklinikum Erlangen\, Maximilianspl. 2\, Erlangen\, 91054\, Deutschland
END:VEVENT
END:VCALENDAR