BEGIN:VCALENDAR
VERSION:2.0
PRODID:-//Medtron EN - ECPv6.11.2.1//NONSGML v1.0//EN
CALSCALE:GREGORIAN
METHOD:PUBLISH
X-WR-CALNAME:Medtron EN
X-ORIGINAL-URL:https://www.medtron.com/en
X-WR-CALDESC:Events for Medtron EN
REFRESH-INTERVAL;VALUE=DURATION:PT1H
X-Robots-Tag:noindex
X-PUBLISHED-TTL:PT1H
BEGIN:VTIMEZONE
TZID:Europe/Helsinki
BEGIN:DAYLIGHT
TZOFFSETFROM:+0200
TZOFFSETTO:+0300
TZNAME:EEST
DTSTART:20260329T010000
END:DAYLIGHT
BEGIN:STANDARD
TZOFFSETFROM:+0300
TZOFFSETTO:+0200
TZNAME:EET
DTSTART:20261025T010000
END:STANDARD
END:VTIMEZONE
BEGIN:VEVENT
DTSTART;VALUE=DATE:20261029
DTEND;VALUE=DATE:20261101
DTSTAMP:20260420T054356
CREATED:20260311T132150Z
LAST-MODIFIED:20260311T132546Z
UID:18519-1793232000-1793491199@www.medtron.com
SUMMARY:Süd- und Mitteldeutscher Röntgenkongress_
DESCRIPTION:Let’s meet at Süd- und Mitteldeutscher Röntgenkongress in Hof! \nThe Süd- und Mitteldeutscher Röntgenkongresswill take place in Hof in October 2026.\nMEDTRON AG will also be there with a stand to advise you on our products. \nCome and meet us and find out about our contrast medium injectors and consumables.\nWe look forward to talking to you! \nYou can find us here: tba \n 
URL:https://www.medtron.com/en/event/sud-und-mitteldeutscher-rontgenkongress_/
ATTACH;FMTTYPE=image/webp:https://www.medtron.com/en/wp-content/uploads/sites/2/2026/03/sued-und-mitteldeutscher-roentgenkongress-2026.webp
END:VEVENT
BEGIN:VEVENT
DTSTART;VALUE=DATE:20261112
DTEND;VALUE=DATE:20261114
DTSTAMP:20260420T054356
CREATED:20250717T155347Z
LAST-MODIFIED:20260211T153409Z
UID:17893-1794441600-1794614399@www.medtron.com
SUMMARY:Radiologiekongress Ruhr_
DESCRIPTION:Let’s meet at Radiologiekongress Ruhr in Dortmund! \nThe Radiology Congress Ruhr is the second largest medical imaging congress in Germany and will take place for the 17th time in Dortmund in November 2026. Radiologists\, MTRA and industry representatives from all over the world come together at the congress to exchange information and further their education on the latest developments and trends in radiology and nuclear medicine. \nMEDTRON AG will also be there with a stand to advise you on all aspects of our products. \nCome and meet us and find out about our contrast media injectors and consumables. \nWe look forward to talking to you! \nYou can find us here: tba \nTo the event website
URL:https://www.medtron.com/en/event/radiologiekongress-ruhr-2/
LOCATION:Messe Dortmund\, Rheinlanddamm 200\, Dortmund\, 44139\, Deutschland
ATTACH;FMTTYPE=image/webp:https://www.medtron.com/en/wp-content/uploads/sites/2/2025/07/rkr-2026.webp
END:VEVENT
BEGIN:VEVENT
DTSTART;VALUE=DATE:20261129
DTEND;VALUE=DATE:20261204
DTSTAMP:20260420T054356
CREATED:20250718T115809Z
LAST-MODIFIED:20260211T154441Z
UID:17905-1795910400-1796342399@www.medtron.com
SUMMARY:RSNA__
DESCRIPTION:Let’s meet at RSNA in Chicago! \nThe Radiological Society of North America (RSNA) is a non-profit organization representing 31 radiological specialties from 145 countries around the world. The event offers high-quality educational resources\, including continuing education credits for maintaining medical licensure\, hosts the world’s largest radiology conference\, and publishes five leading peer-reviewed journals: Radiology\, RadioGraphics\, Radiology: Artificial Intelligence\, Radiology: Cardiothoracic Imaging\, and Radiology: Imaging Cancer. MEDTRON AG will also be there with a booth to advise you on our products. \nCome meet us and learn about our contrast agent injectors and consumables. \nWe look forward to talking with you! \nYou can find us here: tba
URL:https://www.medtron.com/en/event/rsna/
LOCATION:McCormick Place\, 2301 S Martin Luther King Dr\, Chicago\, Illinois\, 60616\, United States
ATTACH;FMTTYPE=image/webp:https://www.medtron.com/en/wp-content/uploads/sites/2/2025/07/rsna-2026.webp
END:VEVENT
END:VCALENDAR