BEGIN:VCALENDAR
VERSION:2.0
PRODID:-//Medtron EN - ECPv6.11.2.1//NONSGML v1.0//EN
CALSCALE:GREGORIAN
METHOD:PUBLISH
X-WR-CALNAME:Medtron EN
X-ORIGINAL-URL:https://www.medtron.com/en
X-WR-CALDESC:Events for Medtron EN
REFRESH-INTERVAL;VALUE=DURATION:PT1H
X-Robots-Tag:noindex
X-PUBLISHED-TTL:PT1H
BEGIN:VTIMEZONE
TZID:Europe/Helsinki
BEGIN:DAYLIGHT
TZOFFSETFROM:+0200
TZOFFSETTO:+0300
TZNAME:EEST
DTSTART:20260329T010000
END:DAYLIGHT
BEGIN:STANDARD
TZOFFSETFROM:+0300
TZOFFSETTO:+0200
TZNAME:EET
DTSTART:20261025T010000
END:STANDARD
END:VTIMEZONE
BEGIN:VEVENT
DTSTART;VALUE=DATE:20260123
DTEND;VALUE=DATE:20260125
DTSTAMP:20260419T155256
CREATED:20241216T140654Z
LAST-MODIFIED:20251209T104449Z
UID:16799-1769126400-1769299199@www.medtron.com
SUMMARY:Radiologiekongress Nord_
DESCRIPTION:Let’s meet at Radiologiekongress Nord in Hamburg! \nThe Radiology Congress North will take place on January 23 and 24\, 2026\, in Hamburg.\nMEDTRON AG will also be there with a booth to advise you on our products. \nCome and meet us and find out about our contrast media injectors and consumables.\nWe look forward to talking to you! \nYou can find us here: to be announced
URL:https://www.medtron.com/en/event/radiologiekongress-nord_/
LOCATION:Radisson Blu Hotel\, Congresspl. 2\, Hamburg\, Bundesstaat wählen:\, 20355\, Germany
ATTACH;FMTTYPE=image/webp:https://www.medtron.com/en/wp-content/uploads/sites/2/2024/12/radiologiekongress-nord-2026.webp
END:VEVENT
END:VCALENDAR