BEGIN:VCALENDAR
VERSION:2.0
PRODID:-//Medtron RU - ECPv6.11.2.1//NONSGML v1.0//EN
CALSCALE:GREGORIAN
METHOD:PUBLISH
X-ORIGINAL-URL:https://www.medtron.com/ru
X-WR-CALDESC:Мероприятия для Medtron RU
REFRESH-INTERVAL;VALUE=DURATION:PT1H
X-Robots-Tag:noindex
X-PUBLISHED-TTL:PT1H
BEGIN:VTIMEZONE
TZID:Europe/Helsinki
BEGIN:DAYLIGHT
TZOFFSETFROM:+0200
TZOFFSETTO:+0300
TZNAME:EEST
DTSTART:20250330T010000
END:DAYLIGHT
BEGIN:STANDARD
TZOFFSETFROM:+0300
TZOFFSETTO:+0200
TZNAME:EET
DTSTART:20251026T010000
END:STANDARD
END:VTIMEZONE
BEGIN:VEVENT
DTSTART;VALUE=DATE:20251003
DTEND;VALUE=DATE:20251007
DTSTAMP:20260423T212618
CREATED:20240513T110935Z
LAST-MODIFIED:20250313T150548Z
UID:15438-1759449600-1759795199@www.medtron.com
SUMMARY:JFR__
DESCRIPTION:Let’s meet at JFR in Paris! \nUnter dem Motto «Les images d’une vie» finden die Journées Francophones De Radiologie Diagnostique & Interventionelle (JFR) vom 3. bis 6. Oktober 2024 in Paris statt.\nAuch wir von der MEDTRON AG sind mit einem Expertenteam vor Ort und beraten Sie rund um unsere Produkte. Sie finden uns am Stand unseres Vertriebspartners Vygon. \nWir freuen uns auf den Austausch mit Ihnen! \nHier finden Sie uns vor Ort: wird noch bekannt gegeben
URL:https://www.medtron.com/ru/event/jfr__/
LOCATION:Palais des Congrès de Paris\, 2 Pl de la Pte Maillot\, 75017 Paris\, 75017\, Frankreich
ATTACH;FMTTYPE=image/webp:https://www.medtron.com/ru/wp-content/uploads/sites/4/2024/05/jfr-2025.webp
END:VEVENT
END:VCALENDAR